BEGIN:VCALENDAR
VERSION:2.0
PRODID:-//Tukios.com/
BEGIN:VEVENT
UID:09d124e4-135c-40d1-a190-322252d34866@www.hibbsfuneralchoctaw.com
DTSTAMP:20260425T105147Z
DTSTART:20260425T160000Z
DTEND:20260425T174500Z
SUMMARY:Viewing
DESCRIPTION:
URL:https://www.hibbsfuneralchoctaw.com/obituaries/benny-dunn
LOCATION: 2190 Harper Road  Choctaw OK 73020
GEO:35.4936377;-97.2734965
END:VEVENT
END:VCALENDAR