BEGIN:VCALENDAR
VERSION:2.0
PRODID:-//Tukios.com/
BEGIN:VEVENT
UID:42dda5bd-7272-47cf-8f45-a3d49fc1e214@www.hibbsfuneralchoctaw.com
DTSTAMP:20260425T105622Z
DTSTART:20260425T180000Z
DTEND:20260425T190000Z
SUMMARY:Memorial Service
DESCRIPTION:
URL:https://www.hibbsfuneralchoctaw.com/obituaries/benny-dunn
LOCATION: 2190 Harper Road  Choctaw OK 73020
GEO:35.4936377;-97.2734965
END:VEVENT
END:VCALENDAR