BEGIN:VCALENDAR
VERSION:2.0
PRODID:-//Tukios.com/
BEGIN:VEVENT
UID:d562a215-0c74-4854-a44b-1db7d5e6fae7@www.hibbsfuneralchoctaw.com
DTSTAMP:20260424T021435Z
DTSTART:20260502T180000Z
DTEND:20260502T190000Z
SUMMARY:Memorial Service
DESCRIPTION:
URL:https://www.hibbsfuneralchoctaw.com/obituaries/tommy-ryan
LOCATION: 2190 Harper Road  Choctaw OK 73020
GEO:35.4936377;-97.2734965
END:VEVENT
END:VCALENDAR